BEGIN:VCALENDAR
VERSION:2.0
PRODID:-//Nachbarschatz - ECPv6.15.16//NONSGML v1.0//EN
CALSCALE:GREGORIAN
METHOD:PUBLISH
X-ORIGINAL-URL:https://www.nachbarschatz.de
X-WR-CALDESC:Veranstaltungen für Nachbarschatz
REFRESH-INTERVAL;VALUE=DURATION:PT1H
X-Robots-Tag:noindex
X-PUBLISHED-TTL:PT1H
BEGIN:VTIMEZONE
TZID:Europe/Berlin
BEGIN:DAYLIGHT
TZOFFSETFROM:+0100
TZOFFSETTO:+0200
TZNAME:CEST
DTSTART:20250330T010000
END:DAYLIGHT
BEGIN:STANDARD
TZOFFSETFROM:+0200
TZOFFSETTO:+0100
TZNAME:CET
DTSTART:20251026T010000
END:STANDARD
BEGIN:DAYLIGHT
TZOFFSETFROM:+0100
TZOFFSETTO:+0200
TZNAME:CEST
DTSTART:20260329T010000
END:DAYLIGHT
BEGIN:STANDARD
TZOFFSETFROM:+0200
TZOFFSETTO:+0100
TZNAME:CET
DTSTART:20261025T010000
END:STANDARD
BEGIN:DAYLIGHT
TZOFFSETFROM:+0100
TZOFFSETTO:+0200
TZNAME:CEST
DTSTART:20270328T010000
END:DAYLIGHT
BEGIN:STANDARD
TZOFFSETFROM:+0200
TZOFFSETTO:+0100
TZNAME:CET
DTSTART:20271031T010000
END:STANDARD
END:VTIMEZONE
BEGIN:VEVENT
DTSTART;TZID=Europe/Berlin:20260806T160000
DTEND;TZID=Europe/Berlin:20260806T170000
DTSTAMP:20260422T093213
CREATED:20241229T171733Z
LAST-MODIFIED:20251213T145323Z
UID:10003107-1786032000-1786035600@www.nachbarschatz.de
SUMMARY:Lachyoga mit Maike
DESCRIPTION:
URL:https://www.nachbarschatz.de/veranstaltungen/lachyoga-mit-maike/2026-08-06/
LOCATION:Mehrgenerationenhaus Nachbarschatz e.V.\, Amandastraße 58\, Hamburg Eimsbüttel\, 20357\, Deutschland
ATTACH;FMTTYPE=image/png:https://www.nachbarschatz.de/wp-content/uploads/Lachyoga.png
ORGANIZER;CN="Nachbarschatz e.V.":MAILTO:info@nachbarschatz.de
GEO:53.5655248;9.9616147
X-APPLE-STRUCTURED-LOCATION;VALUE=URI;X-ADDRESS=Mehrgenerationenhaus Nachbarschatz e.V. Amandastraße 58 Hamburg Eimsbüttel 20357 Deutschland;X-APPLE-RADIUS=500;X-TITLE=Amandastraße 58:geo:9.9616147,53.5655248
END:VEVENT
BEGIN:VEVENT
DTSTART;TZID=Europe/Berlin:20260813T160000
DTEND;TZID=Europe/Berlin:20260813T170000
DTSTAMP:20260422T093213
CREATED:20241229T171733Z
LAST-MODIFIED:20251213T145323Z
UID:10003108-1786636800-1786640400@www.nachbarschatz.de
SUMMARY:Lachyoga mit Maike
DESCRIPTION:
URL:https://www.nachbarschatz.de/veranstaltungen/lachyoga-mit-maike/2026-08-13/
LOCATION:Mehrgenerationenhaus Nachbarschatz e.V.\, Amandastraße 58\, Hamburg Eimsbüttel\, 20357\, Deutschland
ATTACH;FMTTYPE=image/png:https://www.nachbarschatz.de/wp-content/uploads/Lachyoga.png
ORGANIZER;CN="Nachbarschatz e.V.":MAILTO:info@nachbarschatz.de
GEO:53.5655248;9.9616147
X-APPLE-STRUCTURED-LOCATION;VALUE=URI;X-ADDRESS=Mehrgenerationenhaus Nachbarschatz e.V. Amandastraße 58 Hamburg Eimsbüttel 20357 Deutschland;X-APPLE-RADIUS=500;X-TITLE=Amandastraße 58:geo:9.9616147,53.5655248
END:VEVENT
BEGIN:VEVENT
DTSTART;TZID=Europe/Berlin:20260820T160000
DTEND;TZID=Europe/Berlin:20260820T170000
DTSTAMP:20260422T093213
CREATED:20241229T171733Z
LAST-MODIFIED:20251213T145323Z
UID:10003109-1787241600-1787245200@www.nachbarschatz.de
SUMMARY:Lachyoga mit Maike
DESCRIPTION:
URL:https://www.nachbarschatz.de/veranstaltungen/lachyoga-mit-maike/2026-08-20/
LOCATION:Mehrgenerationenhaus Nachbarschatz e.V.\, Amandastraße 58\, Hamburg Eimsbüttel\, 20357\, Deutschland
ATTACH;FMTTYPE=image/png:https://www.nachbarschatz.de/wp-content/uploads/Lachyoga.png
ORGANIZER;CN="Nachbarschatz e.V.":MAILTO:info@nachbarschatz.de
GEO:53.5655248;9.9616147
X-APPLE-STRUCTURED-LOCATION;VALUE=URI;X-ADDRESS=Mehrgenerationenhaus Nachbarschatz e.V. Amandastraße 58 Hamburg Eimsbüttel 20357 Deutschland;X-APPLE-RADIUS=500;X-TITLE=Amandastraße 58:geo:9.9616147,53.5655248
END:VEVENT
BEGIN:VEVENT
DTSTART;TZID=Europe/Berlin:20260827T160000
DTEND;TZID=Europe/Berlin:20260827T170000
DTSTAMP:20260422T093213
CREATED:20241229T171733Z
LAST-MODIFIED:20251213T145323Z
UID:10003110-1787846400-1787850000@www.nachbarschatz.de
SUMMARY:Lachyoga mit Maike
DESCRIPTION:
URL:https://www.nachbarschatz.de/veranstaltungen/lachyoga-mit-maike/2026-08-27/
LOCATION:Mehrgenerationenhaus Nachbarschatz e.V.\, Amandastraße 58\, Hamburg Eimsbüttel\, 20357\, Deutschland
ATTACH;FMTTYPE=image/png:https://www.nachbarschatz.de/wp-content/uploads/Lachyoga.png
ORGANIZER;CN="Nachbarschatz e.V.":MAILTO:info@nachbarschatz.de
GEO:53.5655248;9.9616147
X-APPLE-STRUCTURED-LOCATION;VALUE=URI;X-ADDRESS=Mehrgenerationenhaus Nachbarschatz e.V. Amandastraße 58 Hamburg Eimsbüttel 20357 Deutschland;X-APPLE-RADIUS=500;X-TITLE=Amandastraße 58:geo:9.9616147,53.5655248
END:VEVENT
END:VCALENDAR