BEGIN:VCALENDAR
VERSION:2.0
PRODID:-//Nachbarschatz - ECPv6.15.16//NONSGML v1.0//EN
CALSCALE:GREGORIAN
METHOD:PUBLISH
X-WR-CALNAME:Nachbarschatz
X-ORIGINAL-URL:https://www.nachbarschatz.de
X-WR-CALDESC:Veranstaltungen für Nachbarschatz
REFRESH-INTERVAL;VALUE=DURATION:PT1H
X-Robots-Tag:noindex
X-PUBLISHED-TTL:PT1H
BEGIN:VTIMEZONE
TZID:Europe/Berlin
BEGIN:DAYLIGHT
TZOFFSETFROM:+0100
TZOFFSETTO:+0200
TZNAME:CEST
DTSTART:20250330T010000
END:DAYLIGHT
BEGIN:STANDARD
TZOFFSETFROM:+0200
TZOFFSETTO:+0100
TZNAME:CET
DTSTART:20251026T010000
END:STANDARD
BEGIN:DAYLIGHT
TZOFFSETFROM:+0100
TZOFFSETTO:+0200
TZNAME:CEST
DTSTART:20260329T010000
END:DAYLIGHT
BEGIN:STANDARD
TZOFFSETFROM:+0200
TZOFFSETTO:+0100
TZNAME:CET
DTSTART:20261025T010000
END:STANDARD
BEGIN:DAYLIGHT
TZOFFSETFROM:+0100
TZOFFSETTO:+0200
TZNAME:CEST
DTSTART:20270328T010000
END:DAYLIGHT
BEGIN:STANDARD
TZOFFSETFROM:+0200
TZOFFSETTO:+0100
TZNAME:CET
DTSTART:20271031T010000
END:STANDARD
END:VTIMEZONE
BEGIN:VEVENT
DTSTART;TZID=Europe/Berlin:20260420T093000
DTEND;TZID=Europe/Berlin:20260420T120000
DTSTAMP:20260420T112056
CREATED:20251213T135330Z
LAST-MODIFIED:20251213T135525Z
UID:10001627-1776677400-1776686400@www.nachbarschatz.de
SUMMARY:Frühstück
DESCRIPTION:Montags\, Dienstags und Donnerstags in der Zeit von 9.30 Uhr -12.00 Uhr ist unser Haus für alle geöffnet\, die sich zu einem leckeren Frühstück bei uns treffen wollen. \nMittwochs und Freitags in der Zeit 9.30 Uhr -12.00 Uhr bieten wir einen Eltern-Kind-Brunch an.
URL:https://www.nachbarschatz.de/veranstaltungen/fruehstueck-2/2026-04-20/
LOCATION:Mehrgenerationenhaus Nachbarschatz e.V.\, Amandastraße 58\, Hamburg Eimsbüttel\, 20357\, Deutschland
CATEGORIES:Eltern-Kind-Frühstück,Offenes Frühstück
ATTACH;FMTTYPE=image/png:https://www.nachbarschatz.de/wp-content/uploads/Offenes-Fruehstueck.png
ORGANIZER;CN="Nachbarschatz e.V.":MAILTO:info@nachbarschatz.de
GEO:53.5655248;9.9616147
X-APPLE-STRUCTURED-LOCATION;VALUE=URI;X-ADDRESS=Mehrgenerationenhaus Nachbarschatz e.V. Amandastraße 58 Hamburg Eimsbüttel 20357 Deutschland;X-APPLE-RADIUS=500;X-TITLE=Amandastraße 58:geo:9.9616147,53.5655248
END:VEVENT
BEGIN:VEVENT
DTSTART;TZID=Europe/Berlin:20260420T100000
DTEND;TZID=Europe/Berlin:20260420T111500
DTSTAMP:20260420T112056
CREATED:20251213T140816Z
LAST-MODIFIED:20251213T141013Z
UID:10001797-1776679200-1776683700@www.nachbarschatz.de
SUMMARY:MOBI-Kurs II (mit Anmeldung)
DESCRIPTION:MOBI II (für Kinder ab ca. 7 Monate): Mit eigenem Tempo auf eigene Weise mit allen Sinnen die Welt entdecken! \nIn den MOBI-Kursen von Constanze Mackeprang erwartet Euch eine mit vielseitigen Spiel- und Bewegungsmaterialien vorbereitete Umgebung\, in welcher die Kinder eigenständig sich und die Welt entdecken können. \nAnmeldung unter: www.constanze-mackeprang.de
URL:https://www.nachbarschatz.de/veranstaltungen/mobi-kurs-ii-mit-anmeldung-2/2026-04-20/
LOCATION:Mehrgenerationenhaus Nachbarschatz e.V.\, Amandastraße 58\, Hamburg Eimsbüttel\, 20357\, Deutschland
CATEGORIES:Mobi-Kurs
ATTACH;FMTTYPE=image/png:https://www.nachbarschatz.de/wp-content/uploads/Mobi-Kurs.png
ORGANIZER;CN="Nachbarschatz e.V.":MAILTO:info@nachbarschatz.de
GEO:53.5655248;9.9616147
X-APPLE-STRUCTURED-LOCATION;VALUE=URI;X-ADDRESS=Mehrgenerationenhaus Nachbarschatz e.V. Amandastraße 58 Hamburg Eimsbüttel 20357 Deutschland;X-APPLE-RADIUS=500;X-TITLE=Amandastraße 58:geo:9.9616147,53.5655248
END:VEVENT
BEGIN:VEVENT
DTSTART;TZID=Europe/Berlin:20260420T113000
DTEND;TZID=Europe/Berlin:20260420T124500
DTSTAMP:20260420T112056
CREATED:20251213T140204Z
LAST-MODIFIED:20251213T140558Z
UID:10001747-1776684600-1776689100@www.nachbarschatz.de
SUMMARY:MOBI-Kurs I (mit Anmeldung)
DESCRIPTION:MOBI I (für Kinder ab ca. 3 Monate): Mit eigenem Tempo auf eigene Weise mit allen Sinnen die Welt entdecken! \nIn den MOBI-Kursen von Constanze Mackeprang erwartet Euch eine mit vielseitigen Spiel- und Bewegungsmaterialien vorbereitete Umgebung\, in welcher die Kinder eigenständig sich und die Welt entdecken können. \nAnmeldung unter: www.constanze-mackeprang.de
URL:https://www.nachbarschatz.de/veranstaltungen/mobi-kurs-i-mit-anmeldung-2/2026-04-20/
LOCATION:Mehrgenerationenhaus Nachbarschatz e.V.\, Amandastraße 58\, Hamburg Eimsbüttel\, 20357\, Deutschland
CATEGORIES:Mobi-Kurs
ATTACH;FMTTYPE=image/png:https://www.nachbarschatz.de/wp-content/uploads/Mobi-Kurs.png
ORGANIZER;CN="Nachbarschatz e.V.":MAILTO:info@nachbarschatz.de
GEO:53.5655248;9.9616147
X-APPLE-STRUCTURED-LOCATION;VALUE=URI;X-ADDRESS=Mehrgenerationenhaus Nachbarschatz e.V. Amandastraße 58 Hamburg Eimsbüttel 20357 Deutschland;X-APPLE-RADIUS=500;X-TITLE=Amandastraße 58:geo:9.9616147,53.5655248
END:VEVENT
BEGIN:VEVENT
DTSTART;TZID=Europe/Berlin:20260420T123000
DTEND;TZID=Europe/Berlin:20260420T143000
DTSTAMP:20260420T112056
CREATED:20260420T073143Z
LAST-MODIFIED:20260420T073315Z
UID:10003479-1776688200-1776695400@www.nachbarschatz.de
SUMMARY:Mittagstisch
DESCRIPTION:Statt alleine zu Hause zu Mittag zu essen\, kommen neben Eltern mit ihren Kindern auch immer mehr Senioren mittags zum Essen in die Amandastraße und lassen sich zu günstigen Preisen von den Köchinnen und Helferinnen verwöhnen. Shenaz und Parwin und kochen sehr gerne. Täglich wird frisch gekocht und wir verwenden ausschließlich frisches Gemüse. Von 12.30 bis 14.30 findet unser Mittagstisch statt. \n \n  \n 
URL:https://www.nachbarschatz.de/veranstaltungen/mittagstisch-2-2-2-2-2-2-2-2-2-2-2-2-2-2-2-2-2-2-2-2-2-2-2-2-2-2-2-2-2/2026-04-20/
LOCATION:Mehrgenerationenhaus Nachbarschatz e.V.\, Amandastraße 58\, Hamburg Eimsbüttel\, 20357\, Deutschland
CATEGORIES:Mittagstisch
ATTACH;FMTTYPE=image/png:https://www.nachbarschatz.de/wp-content/uploads/Mittagstisch.png
ORGANIZER;CN="Nachbarschatz e.V.":MAILTO:info@nachbarschatz.de
GEO:53.5655248;9.9616147
X-APPLE-STRUCTURED-LOCATION;VALUE=URI;X-ADDRESS=Mehrgenerationenhaus Nachbarschatz e.V. Amandastraße 58 Hamburg Eimsbüttel 20357 Deutschland;X-APPLE-RADIUS=500;X-TITLE=Amandastraße 58:geo:9.9616147,53.5655248
END:VEVENT
BEGIN:VEVENT
DTSTART;TZID=Europe/Berlin:20260420T153000
DTEND;TZID=Europe/Berlin:20260420T170000
DTSTAMP:20260420T112056
CREATED:20251213T143126Z
LAST-MODIFIED:20251213T143219Z
UID:10002580-1776699000-1776704400@www.nachbarschatz.de
SUMMARY:Kinderdisco
DESCRIPTION:Unsere Kinderdisco findet immer montags von 15:30 bis 17:00 statt
URL:https://www.nachbarschatz.de/veranstaltungen/kinderdisco-2-2/2026-04-20/
LOCATION:Mehrgenerationenhaus Nachbarschatz e.V.\, Amandastraße 58\, Hamburg Eimsbüttel\, 20357\, Deutschland
CATEGORIES:Kinderdisco
ATTACH;FMTTYPE=image/png:https://www.nachbarschatz.de/wp-content/uploads/Kinderdisco.png
ORGANIZER;CN="Nachbarschatz e.V.":MAILTO:info@nachbarschatz.de
GEO:53.5655248;9.9616147
X-APPLE-STRUCTURED-LOCATION;VALUE=URI;X-ADDRESS=Mehrgenerationenhaus Nachbarschatz e.V. Amandastraße 58 Hamburg Eimsbüttel 20357 Deutschland;X-APPLE-RADIUS=500;X-TITLE=Amandastraße 58:geo:9.9616147,53.5655248
END:VEVENT
BEGIN:VEVENT
DTSTART;TZID=Europe/Berlin:20260420T153000
DTEND;TZID=Europe/Berlin:20260420T173000
DTSTAMP:20260420T112056
CREATED:20251213T142621Z
LAST-MODIFIED:20251213T142738Z
UID:10002390-1776699000-1776706200@www.nachbarschatz.de
SUMMARY:Offenes Café
DESCRIPTION:Montag bis Freitag in der Zeit von 15:30 bis 17:30 Uhr ist unser Haus für alle geöffnet. Von Jung bis Alt sind alle herzlich willkommen. Schaut einfach herein und vielleicht habt ihr ja auch Lust auf eine leckere frisch gebackene Waffel oder einen Kaffee? Für eure Kinder gibt es auch eine offene Kinderbetreuung\, so dass ihr mal wieder ganz in Ruhe einen Kaffee trinken könnt. Unser öffentliches Wohnzimmer wartet auf euch.
URL:https://www.nachbarschatz.de/veranstaltungen/offenes-cafe-2-2/2026-04-20/
LOCATION:Mehrgenerationenhaus Nachbarschatz e.V.\, Amandastraße 58\, Hamburg Eimsbüttel\, 20357\, Deutschland
CATEGORIES:Offene Kinderbetreuung,Offener Treff
ATTACH;FMTTYPE=image/png:https://www.nachbarschatz.de/wp-content/uploads/Offenes-Cafe.png
ORGANIZER;CN="Nachbarschatz e.V.":MAILTO:info@nachbarschatz.de
GEO:53.5655248;9.9616147
X-APPLE-STRUCTURED-LOCATION;VALUE=URI;X-ADDRESS=Mehrgenerationenhaus Nachbarschatz e.V. Amandastraße 58 Hamburg Eimsbüttel 20357 Deutschland;X-APPLE-RADIUS=500;X-TITLE=Amandastraße 58:geo:9.9616147,53.5655248
END:VEVENT
BEGIN:VEVENT
DTSTART;TZID=Europe/Berlin:20260420T170000
DTEND;TZID=Europe/Berlin:20260420T174500
DTSTAMP:20260420T112056
CREATED:20251213T143500Z
LAST-MODIFIED:20251213T143745Z
UID:10002646-1776704400-1776707100@www.nachbarschatz.de
SUMMARY:Kangoo-Jumps (mit Kinderbetreuung)
DESCRIPTION:Kangoo Jumps sind gefederte Schuhe\, die besonders schonend für die Gelenke und Knochen sind. Bei dem Ganzkörpertraining werden viele Kalorien verbrannt. Es findet sowohl Muskeltraining als auch Herz-Kreislauftraining statt. Wer mit Kind kommen möchte\, kann sein Kind in der Kinderbetreuung anmelden. Kommt vorbei und habt Spaß mit Jelena!
URL:https://www.nachbarschatz.de/veranstaltungen/kangoo-jumps-2-2-2/2026-04-20/
LOCATION:Mehrgenerationenhaus Nachbarschatz e.V.\, Amandastraße 58\, Hamburg Eimsbüttel\, 20357\, Deutschland
CATEGORIES:Kangoo-Jumps
ATTACH;FMTTYPE=image/png:https://www.nachbarschatz.de/wp-content/uploads/Kangoo-Jumps.png
ORGANIZER;CN="Nachbarschatz e.V.":MAILTO:info@nachbarschatz.de
GEO:53.5655248;9.9616147
X-APPLE-STRUCTURED-LOCATION;VALUE=URI;X-ADDRESS=Mehrgenerationenhaus Nachbarschatz e.V. Amandastraße 58 Hamburg Eimsbüttel 20357 Deutschland;X-APPLE-RADIUS=500;X-TITLE=Amandastraße 58:geo:9.9616147,53.5655248
END:VEVENT
END:VCALENDAR